BEGIN:VCALENDAR
VERSION:2.0
PRODID:-//Columbus AFB - ECPv6.15.20//NONSGML v1.0//EN
CALSCALE:GREGORIAN
METHOD:PUBLISH
X-WR-CALNAME:Columbus AFB
X-ORIGINAL-URL:https://columbusafbliving.com
X-WR-CALDESC:Events for Columbus AFB
REFRESH-INTERVAL;VALUE=DURATION:PT1H
X-Robots-Tag:noindex
X-PUBLISHED-TTL:PT1H
BEGIN:VTIMEZONE
TZID:UTC
BEGIN:STANDARD
TZOFFSETFROM:+0000
TZOFFSETTO:+0000
TZNAME:UTC
DTSTART:20250101T000000
END:STANDARD
END:VTIMEZONE
BEGIN:VEVENT
DTSTART;TZID=UTC:20260521T100000
DTEND;TZID=UTC:20260521T100000
DTSTAMP:20260424T191727
CREATED:20260331T152520Z
LAST-MODIFIED:20260424T180231Z
UID:10002446-1779357600-1779357600@columbusafbliving.com
SUMMARY:Smooth Move
DESCRIPTION:Getting ready to PCS? Let the M&FRC help you transition with Smooth Move on 16 April at 1000 at the MFRC! Receive pertinent information from the Subject Matter Experts to aid in a successful move for you and your family! \nContact the Military & Family Readiness Center at (662) 434-2790 for more information or to register!
URL:https://columbusafbliving.com/event/smooth-move-3/2026-05-21/
LOCATION:Military & Family Readiness Center\, C\, 166 Circle Drive\, Columbus\, MS\, 39710\, United States
CATEGORIES:Columbus AFB,Family,M&FRC,Monthly
ATTACH;FMTTYPE=image/jpeg:https://columbusafbliving.com/wp-content/uploads/2026/03/smooth-move-mfrc-web-V2.jpg
END:VEVENT
BEGIN:VEVENT
DTSTART;TZID=UTC:20260618T100000
DTEND;TZID=UTC:20260618T100000
DTSTAMP:20260424T191727
CREATED:20260331T152520Z
LAST-MODIFIED:20260424T180231Z
UID:10002468-1781776800-1781776800@columbusafbliving.com
SUMMARY:Smooth Move
DESCRIPTION:Getting ready to PCS? Let the M&FRC help you transition with Smooth Move on 16 April at 1000 at the MFRC! Receive pertinent information from the Subject Matter Experts to aid in a successful move for you and your family! \nContact the Military & Family Readiness Center at (662) 434-2790 for more information or to register!
URL:https://columbusafbliving.com/event/smooth-move-3/2026-06-18/
LOCATION:Military & Family Readiness Center\, C\, 166 Circle Drive\, Columbus\, MS\, 39710\, United States
CATEGORIES:Columbus AFB,Family,M&FRC,Monthly
ATTACH;FMTTYPE=image/jpeg:https://columbusafbliving.com/wp-content/uploads/2026/03/smooth-move-mfrc-web-V2.jpg
END:VEVENT
END:VCALENDAR