BEGIN:VCALENDAR
VERSION:2.0
PRODID:-//Columbus AFB - ECPv6.15.20//NONSGML v1.0//EN
CALSCALE:GREGORIAN
METHOD:PUBLISH
X-WR-CALNAME:Columbus AFB
X-ORIGINAL-URL:https://columbusafbliving.com
X-WR-CALDESC:Events for Columbus AFB
REFRESH-INTERVAL;VALUE=DURATION:PT1H
X-Robots-Tag:noindex
X-PUBLISHED-TTL:PT1H
BEGIN:VTIMEZONE
TZID:UTC
BEGIN:STANDARD
TZOFFSETFROM:+0000
TZOFFSETTO:+0000
TZNAME:UTC
DTSTART:20250101T000000
END:STANDARD
END:VTIMEZONE
BEGIN:VEVENT
DTSTART;TZID=UTC:20260507T170000
DTEND;TZID=UTC:20260507T190000
DTSTAMP:20260425T151711
CREATED:20260305T154903Z
LAST-MODIFIED:20260310T182824Z
UID:10002332-1778173200-1778180400@columbusafbliving.com
SUMMARY:First Thursday Skeet & Trap
DESCRIPTION:The Columbus Air Force Base Skeet and Trap range will be open from 1700-1900 for anyone ages 12+ on the First Thursday of each month\, offering time to unwind after work and practice your aim. Purchase 1 round (25 clays) for $5. \nFor more information\, contact Outdoor Recreation at (662) 434-2505
URL:https://columbusafbliving.com/event/first-thursday-skeet-trap/2026-05-07/
LOCATION:Outdoor Recreation
CATEGORIES:Columbus AFB,Family,Fun,Monthly,Outdoor Recreation
ATTACH;FMTTYPE=image/jpeg:https://columbusafbliving.com/wp-content/uploads/2026/03/040226_first-thursday-skeet-shooting_FSW_ODR_FB-Events.jpg
END:VEVENT
BEGIN:VEVENT
DTSTART;TZID=UTC:20260604T170000
DTEND;TZID=UTC:20260604T190000
DTSTAMP:20260425T151711
CREATED:20260305T154903Z
LAST-MODIFIED:20260310T182824Z
UID:10002333-1780592400-1780599600@columbusafbliving.com
SUMMARY:First Thursday Skeet & Trap
DESCRIPTION:The Columbus Air Force Base Skeet and Trap range will be open from 1700-1900 for anyone ages 12+ on the First Thursday of each month\, offering time to unwind after work and practice your aim. Purchase 1 round (25 clays) for $5. \nFor more information\, contact Outdoor Recreation at (662) 434-2505
URL:https://columbusafbliving.com/event/first-thursday-skeet-trap/2026-06-04/
LOCATION:Outdoor Recreation
CATEGORIES:Columbus AFB,Family,Fun,Monthly,Outdoor Recreation
ATTACH;FMTTYPE=image/jpeg:https://columbusafbliving.com/wp-content/uploads/2026/03/040226_first-thursday-skeet-shooting_FSW_ODR_FB-Events.jpg
END:VEVENT
END:VCALENDAR