BEGIN:VCALENDAR
VERSION:2.0
PRODID:-//Columbus AFB - ECPv6.15.20//NONSGML v1.0//EN
CALSCALE:GREGORIAN
METHOD:PUBLISH
X-WR-CALNAME:Columbus AFB
X-ORIGINAL-URL:https://columbusafbliving.com
X-WR-CALDESC:Events for Columbus AFB
REFRESH-INTERVAL;VALUE=DURATION:PT1H
X-Robots-Tag:noindex
X-PUBLISHED-TTL:PT1H
BEGIN:VTIMEZONE
TZID:UTC
BEGIN:STANDARD
TZOFFSETFROM:+0000
TZOFFSETTO:+0000
TZNAME:UTC
DTSTART:20250101T000000
END:STANDARD
END:VTIMEZONE
BEGIN:VEVENT
DTSTART;TZID=UTC:20260515T083000
DTEND;TZID=UTC:20260515T083000
DTSTAMP:20260425T133212
CREATED:20260304T162937Z
LAST-MODIFIED:20260424T160729Z
UID:10002327-1778833800-1778833800@columbusafbliving.com
SUMMARY:Explore Columbus
DESCRIPTION:Join the M&FRC staff for an adventure exploring Columbus on the 3rd Friday of each month at 0830! Casually chat about MFRC resources\, base life\, and things to do in the Golden Triangle. Each month\, we will explore a new location!\nQuestions or to register\, please call the M&FRC at (662) 434-2790.
URL:https://columbusafbliving.com/event/explore-columbus/2026-05-15/
LOCATION:Military & Family Readiness Center\, C\, 166 Circle Drive\, Columbus\, MS\, 39710\, United States
CATEGORIES:Columbus AFB,Family,M&FRC,Monthly,Travel
ATTACH;FMTTYPE=image/jpeg:https://columbusafbliving.com/wp-content/uploads/2026/03/0418_explorecolumbus_FSH_MFRC_FB-Events.jpg
END:VEVENT
BEGIN:VEVENT
DTSTART;TZID=UTC:20260619T083000
DTEND;TZID=UTC:20260619T083000
DTSTAMP:20260425T133212
CREATED:20260304T162937Z
LAST-MODIFIED:20260424T160729Z
UID:10002447-1781857800-1781857800@columbusafbliving.com
SUMMARY:Explore Columbus
DESCRIPTION:Join the M&FRC staff for an adventure exploring Columbus on the 3rd Friday of each month at 0830! Casually chat about MFRC resources\, base life\, and things to do in the Golden Triangle. Each month\, we will explore a new location!\nQuestions or to register\, please call the M&FRC at (662) 434-2790.
URL:https://columbusafbliving.com/event/explore-columbus/2026-06-19/
LOCATION:Military & Family Readiness Center\, C\, 166 Circle Drive\, Columbus\, MS\, 39710\, United States
CATEGORIES:Columbus AFB,Family,M&FRC,Monthly,Travel
ATTACH;FMTTYPE=image/jpeg:https://columbusafbliving.com/wp-content/uploads/2026/03/0418_explorecolumbus_FSH_MFRC_FB-Events.jpg
END:VEVENT
BEGIN:VEVENT
DTSTART;TZID=UTC:20260717T083000
DTEND;TZID=UTC:20260717T083000
DTSTAMP:20260425T133212
CREATED:20260304T162937Z
LAST-MODIFIED:20260424T160729Z
UID:10002448-1784277000-1784277000@columbusafbliving.com
SUMMARY:Explore Columbus
DESCRIPTION:Join the M&FRC staff for an adventure exploring Columbus on the 3rd Friday of each month at 0830! Casually chat about MFRC resources\, base life\, and things to do in the Golden Triangle. Each month\, we will explore a new location!\nQuestions or to register\, please call the M&FRC at (662) 434-2790.
URL:https://columbusafbliving.com/event/explore-columbus/2026-07-17/
LOCATION:Military & Family Readiness Center\, C\, 166 Circle Drive\, Columbus\, MS\, 39710\, United States
CATEGORIES:Columbus AFB,Family,M&FRC,Monthly,Travel
ATTACH;FMTTYPE=image/jpeg:https://columbusafbliving.com/wp-content/uploads/2026/03/0418_explorecolumbus_FSH_MFRC_FB-Events.jpg
END:VEVENT
BEGIN:VEVENT
DTSTART;TZID=UTC:20260821T083000
DTEND;TZID=UTC:20260821T083000
DTSTAMP:20260425T133212
CREATED:20260304T162937Z
LAST-MODIFIED:20260424T160729Z
UID:10002449-1787301000-1787301000@columbusafbliving.com
SUMMARY:Explore Columbus
DESCRIPTION:Join the M&FRC staff for an adventure exploring Columbus on the 3rd Friday of each month at 0830! Casually chat about MFRC resources\, base life\, and things to do in the Golden Triangle. Each month\, we will explore a new location!\nQuestions or to register\, please call the M&FRC at (662) 434-2790.
URL:https://columbusafbliving.com/event/explore-columbus/2026-08-21/
LOCATION:Military & Family Readiness Center\, C\, 166 Circle Drive\, Columbus\, MS\, 39710\, United States
CATEGORIES:Columbus AFB,Family,M&FRC,Monthly,Travel
ATTACH;FMTTYPE=image/jpeg:https://columbusafbliving.com/wp-content/uploads/2026/03/0418_explorecolumbus_FSH_MFRC_FB-Events.jpg
END:VEVENT
END:VCALENDAR