BEGIN:VCALENDAR
VERSION:2.0
PRODID:-//Columbus AFB - ECPv6.15.20//NONSGML v1.0//EN
CALSCALE:GREGORIAN
METHOD:PUBLISH
X-WR-CALNAME:Columbus AFB
X-ORIGINAL-URL:https://columbusafbliving.com
X-WR-CALDESC:Events for Columbus AFB
REFRESH-INTERVAL;VALUE=DURATION:PT1H
X-Robots-Tag:noindex
X-PUBLISHED-TTL:PT1H
BEGIN:VTIMEZONE
TZID:UTC
BEGIN:STANDARD
TZOFFSETFROM:+0000
TZOFFSETTO:+0000
TZNAME:UTC
DTSTART:20250101T000000
END:STANDARD
END:VTIMEZONE
BEGIN:VEVENT
DTSTART;TZID=UTC:20260424T110000
DTEND;TZID=UTC:20260424T200000
DTSTAMP:20260423T154230
CREATED:20260113T172734Z
LAST-MODIFIED:20260120T164735Z
UID:10002282-1777028400-1777060800@columbusafbliving.com
SUMMARY:Cosmic Wing Fridays
DESCRIPTION:Enjoy Cosmic Wings for only 50 CENTS every Friday at the Bowling Center from 1100-2000! \n  \nFlavor Choices: Memphis Dry Rub\, Buffalo\, BBQ\, or Garlic Parmesan. \nMinimum of 6 Wings per order – No order limit \nComes with choice of dipping sauce. Sides and drinks not included. \n  \nQuestions? Call the Bowling Center at (662) 434-3426. \n 
URL:https://columbusafbliving.com/event/cosmic-wing-fridays/2026-04-24/
LOCATION:Bowling Center\, Building 736\, Columbus\, MS\, 39705\, United States
CATEGORIES:Bowling Center,Columbus AFB,Family,Food,Fun
ATTACH;FMTTYPE=image/jpeg:https://columbusafbliving.com/wp-content/uploads/2026/01/011626_cosmic-wings-friday_FSW_Bowling_FB-Events.jpg
END:VEVENT
END:VCALENDAR