BEGIN:VCALENDAR
VERSION:2.0
PRODID:-//Columbus AFB - ECPv6.15.20//NONSGML v1.0//EN
CALSCALE:GREGORIAN
METHOD:PUBLISH
X-WR-CALNAME:Columbus AFB
X-ORIGINAL-URL:https://columbusafbliving.com
X-WR-CALDESC:Events for Columbus AFB
REFRESH-INTERVAL;VALUE=DURATION:PT1H
X-Robots-Tag:noindex
X-PUBLISHED-TTL:PT1H
BEGIN:VTIMEZONE
TZID:UTC
BEGIN:STANDARD
TZOFFSETFROM:+0000
TZOFFSETTO:+0000
TZNAME:UTC
DTSTART:20250101T000000
END:STANDARD
END:VTIMEZONE
BEGIN:VEVENT
DTSTART;TZID=UTC:20260430T150000
DTEND;TZID=UTC:20260430T150000
DTSTAMP:20260425T102435
CREATED:20260305T202254Z
LAST-MODIFIED:20260305T202258Z
UID:10002050-1777561200-1777561200@columbusafbliving.com
SUMMARY:$3 Thursdays!
DESCRIPTION:Order some delicious favorites for only $3 at the Bowling Center every Thursday from 1500-Close! \n$3 MENU ITEMS: \n🍸 Mini Tequila \n🍺 Bottled Beer \n🍕 Pizza Slice \n🥙 Quesadilla \n🍗 3 Tenders \n🍝 3 Meatballs \n  \nQuestions? Call the Bowling Center at (662) 434-3426. \n 
URL:https://columbusafbliving.com/event/3-thursdays-2/2026-04-30/
LOCATION:Bowling Center\, Building 736\, Columbus\, MS\, 39705\, United States
CATEGORIES:Bowling Center,Columbus AFB,Family,Food,Fun
ATTACH;FMTTYPE=image/png:https://columbusafbliving.com/wp-content/uploads/2026/01/010826_3-dollar-thurs_FSW_Bowling_FB-Events-1-scaled.png
END:VEVENT
BEGIN:VEVENT
DTSTART;TZID=UTC:20260507T150000
DTEND;TZID=UTC:20260507T150000
DTSTAMP:20260425T102435
CREATED:20260305T202254Z
LAST-MODIFIED:20260305T202258Z
UID:10002051-1778166000-1778166000@columbusafbliving.com
SUMMARY:$3 Thursdays!
DESCRIPTION:Order some delicious favorites for only $3 at the Bowling Center every Thursday from 1500-Close! \n$3 MENU ITEMS: \n🍸 Mini Tequila \n🍺 Bottled Beer \n🍕 Pizza Slice \n🥙 Quesadilla \n🍗 3 Tenders \n🍝 3 Meatballs \n  \nQuestions? Call the Bowling Center at (662) 434-3426. \n 
URL:https://columbusafbliving.com/event/3-thursdays-2/2026-05-07/
LOCATION:Bowling Center\, Building 736\, Columbus\, MS\, 39705\, United States
CATEGORIES:Bowling Center,Columbus AFB,Family,Food,Fun
ATTACH;FMTTYPE=image/png:https://columbusafbliving.com/wp-content/uploads/2026/01/010826_3-dollar-thurs_FSW_Bowling_FB-Events-1-scaled.png
END:VEVENT
BEGIN:VEVENT
DTSTART;TZID=UTC:20260514T150000
DTEND;TZID=UTC:20260514T150000
DTSTAMP:20260425T102435
CREATED:20260305T202254Z
LAST-MODIFIED:20260305T202258Z
UID:10002052-1778770800-1778770800@columbusafbliving.com
SUMMARY:$3 Thursdays!
DESCRIPTION:Order some delicious favorites for only $3 at the Bowling Center every Thursday from 1500-Close! \n$3 MENU ITEMS: \n🍸 Mini Tequila \n🍺 Bottled Beer \n🍕 Pizza Slice \n🥙 Quesadilla \n🍗 3 Tenders \n🍝 3 Meatballs \n  \nQuestions? Call the Bowling Center at (662) 434-3426. \n 
URL:https://columbusafbliving.com/event/3-thursdays-2/2026-05-14/
LOCATION:Bowling Center\, Building 736\, Columbus\, MS\, 39705\, United States
CATEGORIES:Bowling Center,Columbus AFB,Family,Food,Fun
ATTACH;FMTTYPE=image/png:https://columbusafbliving.com/wp-content/uploads/2026/01/010826_3-dollar-thurs_FSW_Bowling_FB-Events-1-scaled.png
END:VEVENT
BEGIN:VEVENT
DTSTART;TZID=UTC:20260521T150000
DTEND;TZID=UTC:20260521T150000
DTSTAMP:20260425T102435
CREATED:20260305T202254Z
LAST-MODIFIED:20260305T202258Z
UID:10002053-1779375600-1779375600@columbusafbliving.com
SUMMARY:$3 Thursdays!
DESCRIPTION:Order some delicious favorites for only $3 at the Bowling Center every Thursday from 1500-Close! \n$3 MENU ITEMS: \n🍸 Mini Tequila \n🍺 Bottled Beer \n🍕 Pizza Slice \n🥙 Quesadilla \n🍗 3 Tenders \n🍝 3 Meatballs \n  \nQuestions? Call the Bowling Center at (662) 434-3426. \n 
URL:https://columbusafbliving.com/event/3-thursdays-2/2026-05-21/
LOCATION:Bowling Center\, Building 736\, Columbus\, MS\, 39705\, United States
CATEGORIES:Bowling Center,Columbus AFB,Family,Food,Fun
ATTACH;FMTTYPE=image/png:https://columbusafbliving.com/wp-content/uploads/2026/01/010826_3-dollar-thurs_FSW_Bowling_FB-Events-1-scaled.png
END:VEVENT
BEGIN:VEVENT
DTSTART;TZID=UTC:20260528T150000
DTEND;TZID=UTC:20260528T150000
DTSTAMP:20260425T102435
CREATED:20260305T202254Z
LAST-MODIFIED:20260305T202258Z
UID:10002054-1779980400-1779980400@columbusafbliving.com
SUMMARY:$3 Thursdays!
DESCRIPTION:Order some delicious favorites for only $3 at the Bowling Center every Thursday from 1500-Close! \n$3 MENU ITEMS: \n🍸 Mini Tequila \n🍺 Bottled Beer \n🍕 Pizza Slice \n🥙 Quesadilla \n🍗 3 Tenders \n🍝 3 Meatballs \n  \nQuestions? Call the Bowling Center at (662) 434-3426. \n 
URL:https://columbusafbliving.com/event/3-thursdays-2/2026-05-28/
LOCATION:Bowling Center\, Building 736\, Columbus\, MS\, 39705\, United States
CATEGORIES:Bowling Center,Columbus AFB,Family,Food,Fun
ATTACH;FMTTYPE=image/png:https://columbusafbliving.com/wp-content/uploads/2026/01/010826_3-dollar-thurs_FSW_Bowling_FB-Events-1-scaled.png
END:VEVENT
BEGIN:VEVENT
DTSTART;TZID=UTC:20260604T150000
DTEND;TZID=UTC:20260604T150000
DTSTAMP:20260425T102435
CREATED:20260305T202254Z
LAST-MODIFIED:20260305T202258Z
UID:10002055-1780585200-1780585200@columbusafbliving.com
SUMMARY:$3 Thursdays!
DESCRIPTION:Order some delicious favorites for only $3 at the Bowling Center every Thursday from 1500-Close! \n$3 MENU ITEMS: \n🍸 Mini Tequila \n🍺 Bottled Beer \n🍕 Pizza Slice \n🥙 Quesadilla \n🍗 3 Tenders \n🍝 3 Meatballs \n  \nQuestions? Call the Bowling Center at (662) 434-3426. \n 
URL:https://columbusafbliving.com/event/3-thursdays-2/2026-06-04/
LOCATION:Bowling Center\, Building 736\, Columbus\, MS\, 39705\, United States
CATEGORIES:Bowling Center,Columbus AFB,Family,Food,Fun
ATTACH;FMTTYPE=image/png:https://columbusafbliving.com/wp-content/uploads/2026/01/010826_3-dollar-thurs_FSW_Bowling_FB-Events-1-scaled.png
END:VEVENT
BEGIN:VEVENT
DTSTART;TZID=UTC:20260611T150000
DTEND;TZID=UTC:20260611T150000
DTSTAMP:20260425T102435
CREATED:20260305T202254Z
LAST-MODIFIED:20260305T202258Z
UID:10002056-1781190000-1781190000@columbusafbliving.com
SUMMARY:$3 Thursdays!
DESCRIPTION:Order some delicious favorites for only $3 at the Bowling Center every Thursday from 1500-Close! \n$3 MENU ITEMS: \n🍸 Mini Tequila \n🍺 Bottled Beer \n🍕 Pizza Slice \n🥙 Quesadilla \n🍗 3 Tenders \n🍝 3 Meatballs \n  \nQuestions? Call the Bowling Center at (662) 434-3426. \n 
URL:https://columbusafbliving.com/event/3-thursdays-2/2026-06-11/
LOCATION:Bowling Center\, Building 736\, Columbus\, MS\, 39705\, United States
CATEGORIES:Bowling Center,Columbus AFB,Family,Food,Fun
ATTACH;FMTTYPE=image/png:https://columbusafbliving.com/wp-content/uploads/2026/01/010826_3-dollar-thurs_FSW_Bowling_FB-Events-1-scaled.png
END:VEVENT
BEGIN:VEVENT
DTSTART;TZID=UTC:20260618T150000
DTEND;TZID=UTC:20260618T150000
DTSTAMP:20260425T102435
CREATED:20260305T202254Z
LAST-MODIFIED:20260305T202258Z
UID:10002057-1781794800-1781794800@columbusafbliving.com
SUMMARY:$3 Thursdays!
DESCRIPTION:Order some delicious favorites for only $3 at the Bowling Center every Thursday from 1500-Close! \n$3 MENU ITEMS: \n🍸 Mini Tequila \n🍺 Bottled Beer \n🍕 Pizza Slice \n🥙 Quesadilla \n🍗 3 Tenders \n🍝 3 Meatballs \n  \nQuestions? Call the Bowling Center at (662) 434-3426. \n 
URL:https://columbusafbliving.com/event/3-thursdays-2/2026-06-18/
LOCATION:Bowling Center\, Building 736\, Columbus\, MS\, 39705\, United States
CATEGORIES:Bowling Center,Columbus AFB,Family,Food,Fun
ATTACH;FMTTYPE=image/png:https://columbusafbliving.com/wp-content/uploads/2026/01/010826_3-dollar-thurs_FSW_Bowling_FB-Events-1-scaled.png
END:VEVENT
BEGIN:VEVENT
DTSTART;TZID=UTC:20260625T150000
DTEND;TZID=UTC:20260625T150000
DTSTAMP:20260425T102435
CREATED:20260305T202254Z
LAST-MODIFIED:20260305T202258Z
UID:10002058-1782399600-1782399600@columbusafbliving.com
SUMMARY:$3 Thursdays!
DESCRIPTION:Order some delicious favorites for only $3 at the Bowling Center every Thursday from 1500-Close! \n$3 MENU ITEMS: \n🍸 Mini Tequila \n🍺 Bottled Beer \n🍕 Pizza Slice \n🥙 Quesadilla \n🍗 3 Tenders \n🍝 3 Meatballs \n  \nQuestions? Call the Bowling Center at (662) 434-3426. \n 
URL:https://columbusafbliving.com/event/3-thursdays-2/2026-06-25/
LOCATION:Bowling Center\, Building 736\, Columbus\, MS\, 39705\, United States
CATEGORIES:Bowling Center,Columbus AFB,Family,Food,Fun
ATTACH;FMTTYPE=image/png:https://columbusafbliving.com/wp-content/uploads/2026/01/010826_3-dollar-thurs_FSW_Bowling_FB-Events-1-scaled.png
END:VEVENT
BEGIN:VEVENT
DTSTART;TZID=UTC:20260702T150000
DTEND;TZID=UTC:20260702T150000
DTSTAMP:20260425T102435
CREATED:20260305T202254Z
LAST-MODIFIED:20260305T202258Z
UID:10002059-1783004400-1783004400@columbusafbliving.com
SUMMARY:$3 Thursdays!
DESCRIPTION:Order some delicious favorites for only $3 at the Bowling Center every Thursday from 1500-Close! \n$3 MENU ITEMS: \n🍸 Mini Tequila \n🍺 Bottled Beer \n🍕 Pizza Slice \n🥙 Quesadilla \n🍗 3 Tenders \n🍝 3 Meatballs \n  \nQuestions? Call the Bowling Center at (662) 434-3426. \n 
URL:https://columbusafbliving.com/event/3-thursdays-2/2026-07-02/
LOCATION:Bowling Center\, Building 736\, Columbus\, MS\, 39705\, United States
CATEGORIES:Bowling Center,Columbus AFB,Family,Food,Fun
ATTACH;FMTTYPE=image/png:https://columbusafbliving.com/wp-content/uploads/2026/01/010826_3-dollar-thurs_FSW_Bowling_FB-Events-1-scaled.png
END:VEVENT
BEGIN:VEVENT
DTSTART;TZID=UTC:20260709T150000
DTEND;TZID=UTC:20260709T150000
DTSTAMP:20260425T102435
CREATED:20260305T202254Z
LAST-MODIFIED:20260305T202258Z
UID:10002060-1783609200-1783609200@columbusafbliving.com
SUMMARY:$3 Thursdays!
DESCRIPTION:Order some delicious favorites for only $3 at the Bowling Center every Thursday from 1500-Close! \n$3 MENU ITEMS: \n🍸 Mini Tequila \n🍺 Bottled Beer \n🍕 Pizza Slice \n🥙 Quesadilla \n🍗 3 Tenders \n🍝 3 Meatballs \n  \nQuestions? Call the Bowling Center at (662) 434-3426. \n 
URL:https://columbusafbliving.com/event/3-thursdays-2/2026-07-09/
LOCATION:Bowling Center\, Building 736\, Columbus\, MS\, 39705\, United States
CATEGORIES:Bowling Center,Columbus AFB,Family,Food,Fun
ATTACH;FMTTYPE=image/png:https://columbusafbliving.com/wp-content/uploads/2026/01/010826_3-dollar-thurs_FSW_Bowling_FB-Events-1-scaled.png
END:VEVENT
BEGIN:VEVENT
DTSTART;TZID=UTC:20260716T150000
DTEND;TZID=UTC:20260716T150000
DTSTAMP:20260425T102435
CREATED:20260305T202254Z
LAST-MODIFIED:20260305T202258Z
UID:10002061-1784214000-1784214000@columbusafbliving.com
SUMMARY:$3 Thursdays!
DESCRIPTION:Order some delicious favorites for only $3 at the Bowling Center every Thursday from 1500-Close! \n$3 MENU ITEMS: \n🍸 Mini Tequila \n🍺 Bottled Beer \n🍕 Pizza Slice \n🥙 Quesadilla \n🍗 3 Tenders \n🍝 3 Meatballs \n  \nQuestions? Call the Bowling Center at (662) 434-3426. \n 
URL:https://columbusafbliving.com/event/3-thursdays-2/2026-07-16/
LOCATION:Bowling Center\, Building 736\, Columbus\, MS\, 39705\, United States
CATEGORIES:Bowling Center,Columbus AFB,Family,Food,Fun
ATTACH;FMTTYPE=image/png:https://columbusafbliving.com/wp-content/uploads/2026/01/010826_3-dollar-thurs_FSW_Bowling_FB-Events-1-scaled.png
END:VEVENT
BEGIN:VEVENT
DTSTART;TZID=UTC:20260723T150000
DTEND;TZID=UTC:20260723T150000
DTSTAMP:20260425T102435
CREATED:20260305T202254Z
LAST-MODIFIED:20260305T202258Z
UID:10002062-1784818800-1784818800@columbusafbliving.com
SUMMARY:$3 Thursdays!
DESCRIPTION:Order some delicious favorites for only $3 at the Bowling Center every Thursday from 1500-Close! \n$3 MENU ITEMS: \n🍸 Mini Tequila \n🍺 Bottled Beer \n🍕 Pizza Slice \n🥙 Quesadilla \n🍗 3 Tenders \n🍝 3 Meatballs \n  \nQuestions? Call the Bowling Center at (662) 434-3426. \n 
URL:https://columbusafbliving.com/event/3-thursdays-2/2026-07-23/
LOCATION:Bowling Center\, Building 736\, Columbus\, MS\, 39705\, United States
CATEGORIES:Bowling Center,Columbus AFB,Family,Food,Fun
ATTACH;FMTTYPE=image/png:https://columbusafbliving.com/wp-content/uploads/2026/01/010826_3-dollar-thurs_FSW_Bowling_FB-Events-1-scaled.png
END:VEVENT
BEGIN:VEVENT
DTSTART;TZID=UTC:20260730T150000
DTEND;TZID=UTC:20260730T150000
DTSTAMP:20260425T102435
CREATED:20260305T202254Z
LAST-MODIFIED:20260305T202258Z
UID:10002063-1785423600-1785423600@columbusafbliving.com
SUMMARY:$3 Thursdays!
DESCRIPTION:Order some delicious favorites for only $3 at the Bowling Center every Thursday from 1500-Close! \n$3 MENU ITEMS: \n🍸 Mini Tequila \n🍺 Bottled Beer \n🍕 Pizza Slice \n🥙 Quesadilla \n🍗 3 Tenders \n🍝 3 Meatballs \n  \nQuestions? Call the Bowling Center at (662) 434-3426. \n 
URL:https://columbusafbliving.com/event/3-thursdays-2/2026-07-30/
LOCATION:Bowling Center\, Building 736\, Columbus\, MS\, 39705\, United States
CATEGORIES:Bowling Center,Columbus AFB,Family,Food,Fun
ATTACH;FMTTYPE=image/png:https://columbusafbliving.com/wp-content/uploads/2026/01/010826_3-dollar-thurs_FSW_Bowling_FB-Events-1-scaled.png
END:VEVENT
BEGIN:VEVENT
DTSTART;TZID=UTC:20260806T150000
DTEND;TZID=UTC:20260806T150000
DTSTAMP:20260425T102435
CREATED:20260305T202254Z
LAST-MODIFIED:20260305T202258Z
UID:10002064-1786028400-1786028400@columbusafbliving.com
SUMMARY:$3 Thursdays!
DESCRIPTION:Order some delicious favorites for only $3 at the Bowling Center every Thursday from 1500-Close! \n$3 MENU ITEMS: \n🍸 Mini Tequila \n🍺 Bottled Beer \n🍕 Pizza Slice \n🥙 Quesadilla \n🍗 3 Tenders \n🍝 3 Meatballs \n  \nQuestions? Call the Bowling Center at (662) 434-3426. \n 
URL:https://columbusafbliving.com/event/3-thursdays-2/2026-08-06/
LOCATION:Bowling Center\, Building 736\, Columbus\, MS\, 39705\, United States
CATEGORIES:Bowling Center,Columbus AFB,Family,Food,Fun
ATTACH;FMTTYPE=image/png:https://columbusafbliving.com/wp-content/uploads/2026/01/010826_3-dollar-thurs_FSW_Bowling_FB-Events-1-scaled.png
END:VEVENT
BEGIN:VEVENT
DTSTART;TZID=UTC:20260813T150000
DTEND;TZID=UTC:20260813T150000
DTSTAMP:20260425T102435
CREATED:20260305T202254Z
LAST-MODIFIED:20260305T202258Z
UID:10002065-1786633200-1786633200@columbusafbliving.com
SUMMARY:$3 Thursdays!
DESCRIPTION:Order some delicious favorites for only $3 at the Bowling Center every Thursday from 1500-Close! \n$3 MENU ITEMS: \n🍸 Mini Tequila \n🍺 Bottled Beer \n🍕 Pizza Slice \n🥙 Quesadilla \n🍗 3 Tenders \n🍝 3 Meatballs \n  \nQuestions? Call the Bowling Center at (662) 434-3426. \n 
URL:https://columbusafbliving.com/event/3-thursdays-2/2026-08-13/
LOCATION:Bowling Center\, Building 736\, Columbus\, MS\, 39705\, United States
CATEGORIES:Bowling Center,Columbus AFB,Family,Food,Fun
ATTACH;FMTTYPE=image/png:https://columbusafbliving.com/wp-content/uploads/2026/01/010826_3-dollar-thurs_FSW_Bowling_FB-Events-1-scaled.png
END:VEVENT
BEGIN:VEVENT
DTSTART;TZID=UTC:20260820T150000
DTEND;TZID=UTC:20260820T150000
DTSTAMP:20260425T102435
CREATED:20260305T202254Z
LAST-MODIFIED:20260305T202258Z
UID:10002066-1787238000-1787238000@columbusafbliving.com
SUMMARY:$3 Thursdays!
DESCRIPTION:Order some delicious favorites for only $3 at the Bowling Center every Thursday from 1500-Close! \n$3 MENU ITEMS: \n🍸 Mini Tequila \n🍺 Bottled Beer \n🍕 Pizza Slice \n🥙 Quesadilla \n🍗 3 Tenders \n🍝 3 Meatballs \n  \nQuestions? Call the Bowling Center at (662) 434-3426. \n 
URL:https://columbusafbliving.com/event/3-thursdays-2/2026-08-20/
LOCATION:Bowling Center\, Building 736\, Columbus\, MS\, 39705\, United States
CATEGORIES:Bowling Center,Columbus AFB,Family,Food,Fun
ATTACH;FMTTYPE=image/png:https://columbusafbliving.com/wp-content/uploads/2026/01/010826_3-dollar-thurs_FSW_Bowling_FB-Events-1-scaled.png
END:VEVENT
BEGIN:VEVENT
DTSTART;TZID=UTC:20260827T150000
DTEND;TZID=UTC:20260827T150000
DTSTAMP:20260425T102435
CREATED:20260305T202254Z
LAST-MODIFIED:20260305T202258Z
UID:10002067-1787842800-1787842800@columbusafbliving.com
SUMMARY:$3 Thursdays!
DESCRIPTION:Order some delicious favorites for only $3 at the Bowling Center every Thursday from 1500-Close! \n$3 MENU ITEMS: \n🍸 Mini Tequila \n🍺 Bottled Beer \n🍕 Pizza Slice \n🥙 Quesadilla \n🍗 3 Tenders \n🍝 3 Meatballs \n  \nQuestions? Call the Bowling Center at (662) 434-3426. \n 
URL:https://columbusafbliving.com/event/3-thursdays-2/2026-08-27/
LOCATION:Bowling Center\, Building 736\, Columbus\, MS\, 39705\, United States
CATEGORIES:Bowling Center,Columbus AFB,Family,Food,Fun
ATTACH;FMTTYPE=image/png:https://columbusafbliving.com/wp-content/uploads/2026/01/010826_3-dollar-thurs_FSW_Bowling_FB-Events-1-scaled.png
END:VEVENT
BEGIN:VEVENT
DTSTART;TZID=UTC:20260903T150000
DTEND;TZID=UTC:20260903T150000
DTSTAMP:20260425T102435
CREATED:20260305T202254Z
LAST-MODIFIED:20260305T202258Z
UID:10002068-1788447600-1788447600@columbusafbliving.com
SUMMARY:$3 Thursdays!
DESCRIPTION:Order some delicious favorites for only $3 at the Bowling Center every Thursday from 1500-Close! \n$3 MENU ITEMS: \n🍸 Mini Tequila \n🍺 Bottled Beer \n🍕 Pizza Slice \n🥙 Quesadilla \n🍗 3 Tenders \n🍝 3 Meatballs \n  \nQuestions? Call the Bowling Center at (662) 434-3426. \n 
URL:https://columbusafbliving.com/event/3-thursdays-2/2026-09-03/
LOCATION:Bowling Center\, Building 736\, Columbus\, MS\, 39705\, United States
CATEGORIES:Bowling Center,Columbus AFB,Family,Food,Fun
ATTACH;FMTTYPE=image/png:https://columbusafbliving.com/wp-content/uploads/2026/01/010826_3-dollar-thurs_FSW_Bowling_FB-Events-1-scaled.png
END:VEVENT
BEGIN:VEVENT
DTSTART;TZID=UTC:20260910T150000
DTEND;TZID=UTC:20260910T150000
DTSTAMP:20260425T102435
CREATED:20260305T202254Z
LAST-MODIFIED:20260305T202258Z
UID:10002069-1789052400-1789052400@columbusafbliving.com
SUMMARY:$3 Thursdays!
DESCRIPTION:Order some delicious favorites for only $3 at the Bowling Center every Thursday from 1500-Close! \n$3 MENU ITEMS: \n🍸 Mini Tequila \n🍺 Bottled Beer \n🍕 Pizza Slice \n🥙 Quesadilla \n🍗 3 Tenders \n🍝 3 Meatballs \n  \nQuestions? Call the Bowling Center at (662) 434-3426. \n 
URL:https://columbusafbliving.com/event/3-thursdays-2/2026-09-10/
LOCATION:Bowling Center\, Building 736\, Columbus\, MS\, 39705\, United States
CATEGORIES:Bowling Center,Columbus AFB,Family,Food,Fun
ATTACH;FMTTYPE=image/png:https://columbusafbliving.com/wp-content/uploads/2026/01/010826_3-dollar-thurs_FSW_Bowling_FB-Events-1-scaled.png
END:VEVENT
BEGIN:VEVENT
DTSTART;TZID=UTC:20260917T150000
DTEND;TZID=UTC:20260917T150000
DTSTAMP:20260425T102435
CREATED:20260305T202254Z
LAST-MODIFIED:20260305T202258Z
UID:10002070-1789657200-1789657200@columbusafbliving.com
SUMMARY:$3 Thursdays!
DESCRIPTION:Order some delicious favorites for only $3 at the Bowling Center every Thursday from 1500-Close! \n$3 MENU ITEMS: \n🍸 Mini Tequila \n🍺 Bottled Beer \n🍕 Pizza Slice \n🥙 Quesadilla \n🍗 3 Tenders \n🍝 3 Meatballs \n  \nQuestions? Call the Bowling Center at (662) 434-3426. \n 
URL:https://columbusafbliving.com/event/3-thursdays-2/2026-09-17/
LOCATION:Bowling Center\, Building 736\, Columbus\, MS\, 39705\, United States
CATEGORIES:Bowling Center,Columbus AFB,Family,Food,Fun
ATTACH;FMTTYPE=image/png:https://columbusafbliving.com/wp-content/uploads/2026/01/010826_3-dollar-thurs_FSW_Bowling_FB-Events-1-scaled.png
END:VEVENT
BEGIN:VEVENT
DTSTART;TZID=UTC:20260924T150000
DTEND;TZID=UTC:20260924T150000
DTSTAMP:20260425T102435
CREATED:20260305T202254Z
LAST-MODIFIED:20260305T202258Z
UID:10002071-1790262000-1790262000@columbusafbliving.com
SUMMARY:$3 Thursdays!
DESCRIPTION:Order some delicious favorites for only $3 at the Bowling Center every Thursday from 1500-Close! \n$3 MENU ITEMS: \n🍸 Mini Tequila \n🍺 Bottled Beer \n🍕 Pizza Slice \n🥙 Quesadilla \n🍗 3 Tenders \n🍝 3 Meatballs \n  \nQuestions? Call the Bowling Center at (662) 434-3426. \n 
URL:https://columbusafbliving.com/event/3-thursdays-2/2026-09-24/
LOCATION:Bowling Center\, Building 736\, Columbus\, MS\, 39705\, United States
CATEGORIES:Bowling Center,Columbus AFB,Family,Food,Fun
ATTACH;FMTTYPE=image/png:https://columbusafbliving.com/wp-content/uploads/2026/01/010826_3-dollar-thurs_FSW_Bowling_FB-Events-1-scaled.png
END:VEVENT
BEGIN:VEVENT
DTSTART;TZID=UTC:20261001T150000
DTEND;TZID=UTC:20261001T150000
DTSTAMP:20260425T102435
CREATED:20260305T202254Z
LAST-MODIFIED:20260305T202258Z
UID:10002072-1790866800-1790866800@columbusafbliving.com
SUMMARY:$3 Thursdays!
DESCRIPTION:Order some delicious favorites for only $3 at the Bowling Center every Thursday from 1500-Close! \n$3 MENU ITEMS: \n🍸 Mini Tequila \n🍺 Bottled Beer \n🍕 Pizza Slice \n🥙 Quesadilla \n🍗 3 Tenders \n🍝 3 Meatballs \n  \nQuestions? Call the Bowling Center at (662) 434-3426. \n 
URL:https://columbusafbliving.com/event/3-thursdays-2/2026-10-01/
LOCATION:Bowling Center\, Building 736\, Columbus\, MS\, 39705\, United States
CATEGORIES:Bowling Center,Columbus AFB,Family,Food,Fun
ATTACH;FMTTYPE=image/png:https://columbusafbliving.com/wp-content/uploads/2026/01/010826_3-dollar-thurs_FSW_Bowling_FB-Events-1-scaled.png
END:VEVENT
BEGIN:VEVENT
DTSTART;TZID=UTC:20261008T150000
DTEND;TZID=UTC:20261008T150000
DTSTAMP:20260425T102435
CREATED:20260305T202254Z
LAST-MODIFIED:20260305T202258Z
UID:10002073-1791471600-1791471600@columbusafbliving.com
SUMMARY:$3 Thursdays!
DESCRIPTION:Order some delicious favorites for only $3 at the Bowling Center every Thursday from 1500-Close! \n$3 MENU ITEMS: \n🍸 Mini Tequila \n🍺 Bottled Beer \n🍕 Pizza Slice \n🥙 Quesadilla \n🍗 3 Tenders \n🍝 3 Meatballs \n  \nQuestions? Call the Bowling Center at (662) 434-3426. \n 
URL:https://columbusafbliving.com/event/3-thursdays-2/2026-10-08/
LOCATION:Bowling Center\, Building 736\, Columbus\, MS\, 39705\, United States
CATEGORIES:Bowling Center,Columbus AFB,Family,Food,Fun
ATTACH;FMTTYPE=image/png:https://columbusafbliving.com/wp-content/uploads/2026/01/010826_3-dollar-thurs_FSW_Bowling_FB-Events-1-scaled.png
END:VEVENT
BEGIN:VEVENT
DTSTART;TZID=UTC:20261015T150000
DTEND;TZID=UTC:20261015T150000
DTSTAMP:20260425T102435
CREATED:20260305T202254Z
LAST-MODIFIED:20260305T202258Z
UID:10002074-1792076400-1792076400@columbusafbliving.com
SUMMARY:$3 Thursdays!
DESCRIPTION:Order some delicious favorites for only $3 at the Bowling Center every Thursday from 1500-Close! \n$3 MENU ITEMS: \n🍸 Mini Tequila \n🍺 Bottled Beer \n🍕 Pizza Slice \n🥙 Quesadilla \n🍗 3 Tenders \n🍝 3 Meatballs \n  \nQuestions? Call the Bowling Center at (662) 434-3426. \n 
URL:https://columbusafbliving.com/event/3-thursdays-2/2026-10-15/
LOCATION:Bowling Center\, Building 736\, Columbus\, MS\, 39705\, United States
CATEGORIES:Bowling Center,Columbus AFB,Family,Food,Fun
ATTACH;FMTTYPE=image/png:https://columbusafbliving.com/wp-content/uploads/2026/01/010826_3-dollar-thurs_FSW_Bowling_FB-Events-1-scaled.png
END:VEVENT
BEGIN:VEVENT
DTSTART;TZID=UTC:20261022T150000
DTEND;TZID=UTC:20261022T150000
DTSTAMP:20260425T102435
CREATED:20260305T202254Z
LAST-MODIFIED:20260305T202258Z
UID:10002075-1792681200-1792681200@columbusafbliving.com
SUMMARY:$3 Thursdays!
DESCRIPTION:Order some delicious favorites for only $3 at the Bowling Center every Thursday from 1500-Close! \n$3 MENU ITEMS: \n🍸 Mini Tequila \n🍺 Bottled Beer \n🍕 Pizza Slice \n🥙 Quesadilla \n🍗 3 Tenders \n🍝 3 Meatballs \n  \nQuestions? Call the Bowling Center at (662) 434-3426. \n 
URL:https://columbusafbliving.com/event/3-thursdays-2/2026-10-22/
LOCATION:Bowling Center\, Building 736\, Columbus\, MS\, 39705\, United States
CATEGORIES:Bowling Center,Columbus AFB,Family,Food,Fun
ATTACH;FMTTYPE=image/png:https://columbusafbliving.com/wp-content/uploads/2026/01/010826_3-dollar-thurs_FSW_Bowling_FB-Events-1-scaled.png
END:VEVENT
BEGIN:VEVENT
DTSTART;TZID=UTC:20261029T150000
DTEND;TZID=UTC:20261029T150000
DTSTAMP:20260425T102435
CREATED:20260305T202254Z
LAST-MODIFIED:20260305T202258Z
UID:10002076-1793286000-1793286000@columbusafbliving.com
SUMMARY:$3 Thursdays!
DESCRIPTION:Order some delicious favorites for only $3 at the Bowling Center every Thursday from 1500-Close! \n$3 MENU ITEMS: \n🍸 Mini Tequila \n🍺 Bottled Beer \n🍕 Pizza Slice \n🥙 Quesadilla \n🍗 3 Tenders \n🍝 3 Meatballs \n  \nQuestions? Call the Bowling Center at (662) 434-3426. \n 
URL:https://columbusafbliving.com/event/3-thursdays-2/2026-10-29/
LOCATION:Bowling Center\, Building 736\, Columbus\, MS\, 39705\, United States
CATEGORIES:Bowling Center,Columbus AFB,Family,Food,Fun
ATTACH;FMTTYPE=image/png:https://columbusafbliving.com/wp-content/uploads/2026/01/010826_3-dollar-thurs_FSW_Bowling_FB-Events-1-scaled.png
END:VEVENT
BEGIN:VEVENT
DTSTART;TZID=UTC:20261105T150000
DTEND;TZID=UTC:20261105T150000
DTSTAMP:20260425T102435
CREATED:20260305T202254Z
LAST-MODIFIED:20260305T202258Z
UID:10002077-1793890800-1793890800@columbusafbliving.com
SUMMARY:$3 Thursdays!
DESCRIPTION:Order some delicious favorites for only $3 at the Bowling Center every Thursday from 1500-Close! \n$3 MENU ITEMS: \n🍸 Mini Tequila \n🍺 Bottled Beer \n🍕 Pizza Slice \n🥙 Quesadilla \n🍗 3 Tenders \n🍝 3 Meatballs \n  \nQuestions? Call the Bowling Center at (662) 434-3426. \n 
URL:https://columbusafbliving.com/event/3-thursdays-2/2026-11-05/
LOCATION:Bowling Center\, Building 736\, Columbus\, MS\, 39705\, United States
CATEGORIES:Bowling Center,Columbus AFB,Family,Food,Fun
ATTACH;FMTTYPE=image/png:https://columbusafbliving.com/wp-content/uploads/2026/01/010826_3-dollar-thurs_FSW_Bowling_FB-Events-1-scaled.png
END:VEVENT
BEGIN:VEVENT
DTSTART;TZID=UTC:20261112T150000
DTEND;TZID=UTC:20261112T150000
DTSTAMP:20260425T102435
CREATED:20260305T202254Z
LAST-MODIFIED:20260305T202258Z
UID:10002078-1794495600-1794495600@columbusafbliving.com
SUMMARY:$3 Thursdays!
DESCRIPTION:Order some delicious favorites for only $3 at the Bowling Center every Thursday from 1500-Close! \n$3 MENU ITEMS: \n🍸 Mini Tequila \n🍺 Bottled Beer \n🍕 Pizza Slice \n🥙 Quesadilla \n🍗 3 Tenders \n🍝 3 Meatballs \n  \nQuestions? Call the Bowling Center at (662) 434-3426. \n 
URL:https://columbusafbliving.com/event/3-thursdays-2/2026-11-12/
LOCATION:Bowling Center\, Building 736\, Columbus\, MS\, 39705\, United States
CATEGORIES:Bowling Center,Columbus AFB,Family,Food,Fun
ATTACH;FMTTYPE=image/png:https://columbusafbliving.com/wp-content/uploads/2026/01/010826_3-dollar-thurs_FSW_Bowling_FB-Events-1-scaled.png
END:VEVENT
BEGIN:VEVENT
DTSTART;TZID=UTC:20261119T150000
DTEND;TZID=UTC:20261119T150000
DTSTAMP:20260425T102435
CREATED:20260305T202254Z
LAST-MODIFIED:20260305T202258Z
UID:10002079-1795100400-1795100400@columbusafbliving.com
SUMMARY:$3 Thursdays!
DESCRIPTION:Order some delicious favorites for only $3 at the Bowling Center every Thursday from 1500-Close! \n$3 MENU ITEMS: \n🍸 Mini Tequila \n🍺 Bottled Beer \n🍕 Pizza Slice \n🥙 Quesadilla \n🍗 3 Tenders \n🍝 3 Meatballs \n  \nQuestions? Call the Bowling Center at (662) 434-3426. \n 
URL:https://columbusafbliving.com/event/3-thursdays-2/2026-11-19/
LOCATION:Bowling Center\, Building 736\, Columbus\, MS\, 39705\, United States
CATEGORIES:Bowling Center,Columbus AFB,Family,Food,Fun
ATTACH;FMTTYPE=image/png:https://columbusafbliving.com/wp-content/uploads/2026/01/010826_3-dollar-thurs_FSW_Bowling_FB-Events-1-scaled.png
END:VEVENT
END:VCALENDAR