BEGIN:VCALENDAR
VERSION:2.0
PRODID:-//Columbus AFB - ECPv6.15.20//NONSGML v1.0//EN
CALSCALE:GREGORIAN
METHOD:PUBLISH
X-WR-CALNAME:Columbus AFB
X-ORIGINAL-URL:https://columbusafbliving.com
X-WR-CALDESC:Events for Columbus AFB
REFRESH-INTERVAL;VALUE=DURATION:PT1H
X-Robots-Tag:noindex
X-PUBLISHED-TTL:PT1H
BEGIN:VTIMEZONE
TZID:UTC
BEGIN:STANDARD
TZOFFSETFROM:+0000
TZOFFSETTO:+0000
TZNAME:UTC
DTSTART:20250101T000000
END:STANDARD
END:VTIMEZONE
BEGIN:VEVENT
DTSTART;VALUE=DATE:20260401
DTEND;VALUE=DATE:20260501
DTSTAMP:20260423T051111
CREATED:20260414T194843Z
LAST-MODIFIED:20260414T194843Z
UID:10002438-1775001600-1777593599@columbusafbliving.com
SUMMARY:Month of the Military Child
DESCRIPTION:
URL:https://columbusafbliving.com/event/month-of-the-military-child/
LOCATION:Columbus Air Force Base\, Harpe Blvd\, Columbus\, MS\, 39710\, United States
CATEGORIES:Base Wide Events,Columbus AFB,Community Events,Family,Featured Event,Hot Events,Youth Programs
ATTACH;FMTTYPE=image/jpeg:https://columbusafbliving.com/wp-content/uploads/2026/04/040126_momccalendargraphics-2026_Flyer-e1776196027478.jpg
END:VEVENT
BEGIN:VEVENT
DTSTART;VALUE=DATE:20260406
DTEND;VALUE=DATE:20260425
DTSTAMP:20260423T051111
CREATED:20260331T142551Z
LAST-MODIFIED:20260331T142639Z
UID:10002384-1775433600-1777075199@columbusafbliving.com
SUMMARY:April Fitness Challenge
DESCRIPTION:Think you have what it takes to become April’s Athlete of the Month? \nCompete from the 1st Monday to the last Friday of every month for points during the challenge for prizes\, the Athlete of the Month parking spot\, and bragging rights:\n2 POINTS: Complete a workout at the Fitness Center or with OST on Team Buildr.\n3 POINTS: Bring a friend to work out or attend a fitness event.\n4 POINTS: Get Top 3 on the Fitness Center Leaderboard\, place in a fitness event\, or volunteer at a fitness event. \nClick the links below to download TeamBuildr:\nGoogle Play\nApple App Store \nActive Duty Codes:\nCode 1: UZKC\nCode 2: B8GS\nPassword: JSPX9ZLB \nNon-Active Duty Codes:\nCode 1: DZRK\nCode 2: 4CBD\nPassword: ZI8TJFNL \nAll workouts must be verified by the Fitness Center staff. No points for workouts during unmanned hours.\nQuestions? Call the Fitness Center at (662) 434-2772.
URL:https://columbusafbliving.com/event/april-fitness-challenge/
LOCATION:MS
CATEGORIES:Base Wide Events,Columbus AFB,Fitness,Monthly
ATTACH;FMTTYPE=image/jpeg:https://columbusafbliving.com/wp-content/uploads/2026/03/010126_december-fitness-challenge_FSV_Fitness_FB-Events.jpg
END:VEVENT
BEGIN:VEVENT
DTSTART;TZID=UTC:20260423T110000
DTEND;TZID=UTC:20260423T130000
DTSTAMP:20260423T051111
CREATED:20260113T213313Z
LAST-MODIFIED:20260114T154207Z
UID:10002149-1776942000-1776949200@columbusafbliving.com
SUMMARY:Lunch Buffet
DESCRIPTION:Join the Event Center every week on Tuesdays-Thursdays from 1100-1300 for a Lunch Buffet! \n  \nTuesday Menu: Taco Tuesday – Beef\, Chicken\, Ranchero\, Beans\, Taco Shells\, and more! \nWednesday Menu: Rotating Specials –  Chicken Wings\, Pizza\, Pasta\, Fried Chicken\, and more! \nThursday Menu: Fish Fry & BBQ – Barbecued Meats\, Fried Fish\, and a variety of country-style sides! \nSalad Bar: 14 Item Salad Bar with 6 Assorted Dressings. \n  \n– Prices – \nTo-Go: \n$9 – Salad Bar \n$12 – Buffet & Salad \n  \nDine-In: \n$10 – Salad Bar \n$14 – Whole Buffet \n  \nDine-In is unlimited buffet. Tax and soft drink or tea included. \nQuestions? Call the Event Center at (662) 434-2489 for more information.
URL:https://columbusafbliving.com/event/lunch-buffet/2026-04-23/
LOCATION:Event Center\, 236 State Loop\, Columbus\, MS\, 39710\, United States
CATEGORIES:Base Wide Events,Columbus AFB,Community Events,Event Center,Family,Food
ATTACH;FMTTYPE=image/png:https://columbusafbliving.com/wp-content/uploads/2026/01/2026-Lunch_Buffet-Event_Center-FB_Event-1.png
END:VEVENT
BEGIN:VEVENT
DTSTART;TZID=UTC:20260423T143000
DTEND;TZID=UTC:20260423T160000
DTSTAMP:20260423T051111
CREATED:20251215T182017Z
LAST-MODIFIED:20260310T182326Z
UID:10002358-1776954600-1776960000@columbusafbliving.com
SUMMARY:Financial Readiness
DESCRIPTION:New to Columbus? A new duty station is the perfect chance for a financial fresh start! Whether planning for retirement\, boosting your TSP\, buying a car or home\, or starting a savings account\, it’s never too early to take charge of your financial future\, and the M&FRC is here to help! \nGet expert guidance through one-on-one consultations or join the M&FRC’s monthly workshop every 4th Thursday from 1430-1600! \nFinancial Readiness Training is required for E-6 and below / O-3 and below upon arrival. \nFor questions or to register\, call the M&FRC at (662) 434-2790.
URL:https://columbusafbliving.com/event/financial-readiness-2/2026-04-23/
LOCATION:Military & Family Readiness Center\, C\, 166 Circle Drive\, Columbus\, MS\, 39710\, United States
CATEGORIES:Base Wide Events,Columbus AFB,M&FRC,Monthly
ATTACH;FMTTYPE=image/jpeg:https://columbusafbliving.com/wp-content/uploads/2025/12/0424_financialreadiness_FSH_MFRC_FB-Events.jpg
END:VEVENT
BEGIN:VEVENT
DTSTART;TZID=UTC:20260423T150000
DTEND;TZID=UTC:20260423T150000
DTSTAMP:20260423T051111
CREATED:20260305T202254Z
LAST-MODIFIED:20260305T202258Z
UID:10002049-1776956400-1776956400@columbusafbliving.com
SUMMARY:$3 Thursdays!
DESCRIPTION:Order some delicious favorites for only $3 at the Bowling Center every Thursday from 1500-Close! \n$3 MENU ITEMS: \n🍸 Mini Tequila \n🍺 Bottled Beer \n🍕 Pizza Slice \n🥙 Quesadilla \n🍗 3 Tenders \n🍝 3 Meatballs \n  \nQuestions? Call the Bowling Center at (662) 434-3426. \n 
URL:https://columbusafbliving.com/event/3-thursdays-2/2026-04-23/
LOCATION:Bowling Center\, Building 736\, Columbus\, MS\, 39705\, United States
CATEGORIES:Bowling Center,Columbus AFB,Family,Food,Fun
ATTACH;FMTTYPE=image/png:https://columbusafbliving.com/wp-content/uploads/2026/01/010826_3-dollar-thurs_FSW_Bowling_FB-Events-1-scaled.png
END:VEVENT
BEGIN:VEVENT
DTSTART;TZID=UTC:20260423T180000
DTEND;TZID=UTC:20260423T180000
DTSTAMP:20260423T051111
CREATED:20260113T204930Z
LAST-MODIFIED:20260306T221027Z
UID:10002104-1776967200-1776967200@columbusafbliving.com
SUMMARY:Trivia Night
DESCRIPTION:Ready to put your knowledge to the test? Join the Event Center for Trivia Night on 23 April at 1800! Compete against your family\, friends\, or squadron in four rounds of trivia questions. PRIZES will be awarded to the winner of each round! \n  \nQuestions? Call the Event Center at (662) 434-2489 for more information.
URL:https://columbusafbliving.com/event/trivia-night/
LOCATION:Event Center\, 236 State Loop\, Columbus\, MS\, 39710\, United States
CATEGORIES:Columbus AFB,Community Events,Event Center,Family,Fun
ATTACH;FMTTYPE=image/jpeg:https://columbusafbliving.com/wp-content/uploads/2026/01/042326_trivianight_FSW_EC.jpg
END:VEVENT
BEGIN:VEVENT
DTSTART;TZID=UTC:20260424T110000
DTEND;TZID=UTC:20260424T200000
DTSTAMP:20260423T051111
CREATED:20260113T172734Z
LAST-MODIFIED:20260120T164735Z
UID:10002282-1777028400-1777060800@columbusafbliving.com
SUMMARY:Cosmic Wing Fridays
DESCRIPTION:Enjoy Cosmic Wings for only 50 CENTS every Friday at the Bowling Center from 1100-2000! \n  \nFlavor Choices: Memphis Dry Rub\, Buffalo\, BBQ\, or Garlic Parmesan. \nMinimum of 6 Wings per order – No order limit \nComes with choice of dipping sauce. Sides and drinks not included. \n  \nQuestions? Call the Bowling Center at (662) 434-3426. \n 
URL:https://columbusafbliving.com/event/cosmic-wing-fridays/2026-04-24/
LOCATION:Bowling Center\, Building 736\, Columbus\, MS\, 39705\, United States
CATEGORIES:Bowling Center,Columbus AFB,Family,Food,Fun
ATTACH;FMTTYPE=image/jpeg:https://columbusafbliving.com/wp-content/uploads/2026/01/011626_cosmic-wings-friday_FSW_Bowling_FB-Events.jpg
END:VEVENT
BEGIN:VEVENT
DTSTART;TZID=UTC:20260424T190000
DTEND;TZID=UTC:20260425T070000
DTSTAMP:20260423T051111
CREATED:20260113T204601Z
LAST-MODIFIED:20260113T205442Z
UID:10002103-1777057200-1777100400@columbusafbliving.com
SUMMARY:Operation Megaphone
DESCRIPTION:Join the Youth Center for Operation Megaphone 2026 for a Teen Lock-In on 24-25 April from 1900-0700! Work on fun team-building exercises and network with teens from other bases. Dinner\, snacks\, and breakfast will be provided! \n  \nAges: 13-18 \nPrice: $25/teen \nSign up by 22 April. \n  \nQuestions? Call the Youth Center at (662) 434-2504 for more information.
URL:https://columbusafbliving.com/event/operation-megaphone/
LOCATION:Youth Center\, 386 Imes St. Columbus AFB
CATEGORIES:Columbus AFB,Food,Fun,Youth Programs
ATTACH;FMTTYPE=image/jpeg:https://columbusafbliving.com/wp-content/uploads/2026/01/042426_operation-megaphone_FSY_YC_FB-Events.jpg
END:VEVENT
BEGIN:VEVENT
DTSTART;VALUE=DATE:20260425
DTEND;VALUE=DATE:20260426
DTSTAMP:20260423T051111
CREATED:20260330T153535Z
LAST-MODIFIED:20260331T141631Z
UID:10002383-1777075200-1777161599@columbusafbliving.com
SUMMARY:Purple Up! Bowling
DESCRIPTION:Every Saturday in April\, anyone wearing purple can bowl for free in celebration of the Month of the Military Child. \nQuestions? Contact the Bowling Center at (662) 434-3426.
URL:https://columbusafbliving.com/event/purple-up-bowling/2026-04-25/
LOCATION:MS
CATEGORIES:Bowling Center,Columbus AFB,Family,Fun
ATTACH;FMTTYPE=image/png:https://columbusafbliving.com/wp-content/uploads/2026/03/Purple-Up-Event.png
END:VEVENT
BEGIN:VEVENT
DTSTART;TZID=UTC:20260425T070000
DTEND;TZID=UTC:20260425T070000
DTSTAMP:20260423T051111
CREATED:20260209T162224Z
LAST-MODIFIED:20260310T182742Z
UID:10002309-1777100400-1777100400@columbusafbliving.com
SUMMARY:Magnolia Migrations
DESCRIPTION:Calling all Bird-Enthusiasts! \nJoin Outdoor Recreation’s Magnolia Migrations for bird-watching at the Plymouth Bluff Environmental Center on 25 April at 0700 for only $5! \nApril is PEAK bird migration season and Plymouth Bluff is right along the Mississippi Flyway\, making it a great spot to see birds passing through! \n  \nFor questions and to sign up by 22 April\, call Outdoor Recreation at (662) 434-2505.
URL:https://columbusafbliving.com/event/magnolia-migrations/
LOCATION:Outdoor Recreation
CATEGORIES:Columbus AFB,Community Events,Fun,Outdoor Recreation,Travel
ATTACH;FMTTYPE=image/jpeg:https://columbusafbliving.com/wp-content/uploads/2026/02/042626_magnolia-migrations_FSW_ODR_FB-Events.jpg
END:VEVENT
BEGIN:VEVENT
DTSTART;TZID=UTC:20260425T110000
DTEND;TZID=UTC:20260425T150000
DTSTAMP:20260423T051111
CREATED:20260331T151443Z
LAST-MODIFIED:20260331T151443Z
UID:10002389-1777114800-1777129200@columbusafbliving.com
SUMMARY:Pins & Pancakes
DESCRIPTION:The Bowling Center will host Pins and Pancakes on Saturdays\, featuring fun-shaped and funfetti pancakes with a side of bacon or sausage from 1100- 1500! Bowl and enjoy FREE kid-friendly movies\, and cool cosmic lighting from 1100-1800! \nQuestions? Contact the Bowling Center at (662) 434-3426.
URL:https://columbusafbliving.com/event/pins-pancakes/2026-04-25/
LOCATION:Bowling Center\, Building 736\, Columbus\, MS\, 39705\, United States
CATEGORIES:Bowling Center,Columbus AFB,Community Events,Family,Food,Fun
ATTACH;FMTTYPE=image/jpeg:https://columbusafbliving.com/wp-content/uploads/2026/03/040426_pins-and-pancakes_FSW-Bowling_FB-Events.jpg
END:VEVENT
BEGIN:VEVENT
DTSTART;TZID=UTC:20260428T100000
DTEND;TZID=UTC:20260428T100000
DTSTAMP:20260423T051111
CREATED:20260326T145630Z
LAST-MODIFIED:20260326T145630Z
UID:10002375-1777370400-1777370400@columbusafbliving.com
SUMMARY:Jellyfish Storytime
DESCRIPTION:Join us for Jellyfish Storytime on 28 April at 1000 in the Columbus AFB Library! Great for kids ages 2+. Enjoy short stories read by our guest readers\, then stay for a fun craft activity.
URL:https://columbusafbliving.com/event/jellyfish-storytime/
LOCATION:Library\, Blaze Commons\, Columbus\, Mississippi\, 39710\, United States
CATEGORIES:Columbus AFB,Family,Fun,Library
ATTACH;FMTTYPE=image/png:https://columbusafbliving.com/wp-content/uploads/2026/03/04282026-Library-Jellyfish-Storytime-Event_Banner.png
END:VEVENT
BEGIN:VEVENT
DTSTART;TZID=UTC:20260428T110000
DTEND;TZID=UTC:20260428T130000
DTSTAMP:20260423T051111
CREATED:20260113T213313Z
LAST-MODIFIED:20260114T154207Z
UID:10002150-1777374000-1777381200@columbusafbliving.com
SUMMARY:Lunch Buffet
DESCRIPTION:Join the Event Center every week on Tuesdays-Thursdays from 1100-1300 for a Lunch Buffet! \n  \nTuesday Menu: Taco Tuesday – Beef\, Chicken\, Ranchero\, Beans\, Taco Shells\, and more! \nWednesday Menu: Rotating Specials –  Chicken Wings\, Pizza\, Pasta\, Fried Chicken\, and more! \nThursday Menu: Fish Fry & BBQ – Barbecued Meats\, Fried Fish\, and a variety of country-style sides! \nSalad Bar: 14 Item Salad Bar with 6 Assorted Dressings. \n  \n– Prices – \nTo-Go: \n$9 – Salad Bar \n$12 – Buffet & Salad \n  \nDine-In: \n$10 – Salad Bar \n$14 – Whole Buffet \n  \nDine-In is unlimited buffet. Tax and soft drink or tea included. \nQuestions? Call the Event Center at (662) 434-2489 for more information.
URL:https://columbusafbliving.com/event/lunch-buffet/2026-04-28/
LOCATION:Event Center\, 236 State Loop\, Columbus\, MS\, 39710\, United States
CATEGORIES:Base Wide Events,Columbus AFB,Community Events,Event Center,Family,Food
ATTACH;FMTTYPE=image/png:https://columbusafbliving.com/wp-content/uploads/2026/01/2026-Lunch_Buffet-Event_Center-FB_Event-1.png
END:VEVENT
BEGIN:VEVENT
DTSTART;TZID=UTC:20260428T160000
DTEND;TZID=UTC:20260428T160000
DTSTAMP:20260423T051111
CREATED:20260414T202346Z
LAST-MODIFIED:20260414T202346Z
UID:10002439-1777392000-1777392000@columbusafbliving.com
SUMMARY:Month of the Military Child Youth Parade
DESCRIPTION:Show up BIG for our military kids!\nSquadrons—we want YOU! Bring your golf carts\, Kubotas\, Gators\, and roll in with pride at the CAFB Youth Parade as we celebrate the Month of the Military Child!\nThe parade will start at the Event Center on 28 April at 1600 (lineup 1545).\n\nSign up your squadron below:\nSignUpGenius.com/go/10C0D48AFAF22A5F4C07-63496749-momc
URL:https://columbusafbliving.com/event/momc-youth-parade/
LOCATION:Event Center\, 236 State Loop\, Columbus\, MS\, 39710\, United States
CATEGORIES:Base Wide Events,Columbus AFB,Event Center,Family,Featured Event,Fun,Youth Programs
ATTACH;FMTTYPE=image/jpeg:https://columbusafbliving.com/wp-content/uploads/2026/04/043026_CDC-parade_FSY-YC_FB-Events.jpg
END:VEVENT
BEGIN:VEVENT
DTSTART;TZID=UTC:20260429T110000
DTEND;TZID=UTC:20260429T130000
DTSTAMP:20260423T051111
CREATED:20260113T213313Z
LAST-MODIFIED:20260114T154207Z
UID:10002151-1777460400-1777467600@columbusafbliving.com
SUMMARY:Lunch Buffet
DESCRIPTION:Join the Event Center every week on Tuesdays-Thursdays from 1100-1300 for a Lunch Buffet! \n  \nTuesday Menu: Taco Tuesday – Beef\, Chicken\, Ranchero\, Beans\, Taco Shells\, and more! \nWednesday Menu: Rotating Specials –  Chicken Wings\, Pizza\, Pasta\, Fried Chicken\, and more! \nThursday Menu: Fish Fry & BBQ – Barbecued Meats\, Fried Fish\, and a variety of country-style sides! \nSalad Bar: 14 Item Salad Bar with 6 Assorted Dressings. \n  \n– Prices – \nTo-Go: \n$9 – Salad Bar \n$12 – Buffet & Salad \n  \nDine-In: \n$10 – Salad Bar \n$14 – Whole Buffet \n  \nDine-In is unlimited buffet. Tax and soft drink or tea included. \nQuestions? Call the Event Center at (662) 434-2489 for more information.
URL:https://columbusafbliving.com/event/lunch-buffet/2026-04-29/
LOCATION:Event Center\, 236 State Loop\, Columbus\, MS\, 39710\, United States
CATEGORIES:Base Wide Events,Columbus AFB,Community Events,Event Center,Family,Food
ATTACH;FMTTYPE=image/png:https://columbusafbliving.com/wp-content/uploads/2026/01/2026-Lunch_Buffet-Event_Center-FB_Event-1.png
END:VEVENT
BEGIN:VEVENT
DTSTART;TZID=UTC:20260430T110000
DTEND;TZID=UTC:20260430T130000
DTSTAMP:20260423T051111
CREATED:20260113T213313Z
LAST-MODIFIED:20260114T154207Z
UID:10002152-1777546800-1777554000@columbusafbliving.com
SUMMARY:Lunch Buffet
DESCRIPTION:Join the Event Center every week on Tuesdays-Thursdays from 1100-1300 for a Lunch Buffet! \n  \nTuesday Menu: Taco Tuesday – Beef\, Chicken\, Ranchero\, Beans\, Taco Shells\, and more! \nWednesday Menu: Rotating Specials –  Chicken Wings\, Pizza\, Pasta\, Fried Chicken\, and more! \nThursday Menu: Fish Fry & BBQ – Barbecued Meats\, Fried Fish\, and a variety of country-style sides! \nSalad Bar: 14 Item Salad Bar with 6 Assorted Dressings. \n  \n– Prices – \nTo-Go: \n$9 – Salad Bar \n$12 – Buffet & Salad \n  \nDine-In: \n$10 – Salad Bar \n$14 – Whole Buffet \n  \nDine-In is unlimited buffet. Tax and soft drink or tea included. \nQuestions? Call the Event Center at (662) 434-2489 for more information.
URL:https://columbusafbliving.com/event/lunch-buffet/2026-04-30/
LOCATION:Event Center\, 236 State Loop\, Columbus\, MS\, 39710\, United States
CATEGORIES:Base Wide Events,Columbus AFB,Community Events,Event Center,Family,Food
ATTACH;FMTTYPE=image/png:https://columbusafbliving.com/wp-content/uploads/2026/01/2026-Lunch_Buffet-Event_Center-FB_Event-1.png
END:VEVENT
BEGIN:VEVENT
DTSTART;TZID=UTC:20260430T150000
DTEND;TZID=UTC:20260430T150000
DTSTAMP:20260423T051111
CREATED:20260305T202254Z
LAST-MODIFIED:20260305T202258Z
UID:10002050-1777561200-1777561200@columbusafbliving.com
SUMMARY:$3 Thursdays!
DESCRIPTION:Order some delicious favorites for only $3 at the Bowling Center every Thursday from 1500-Close! \n$3 MENU ITEMS: \n🍸 Mini Tequila \n🍺 Bottled Beer \n🍕 Pizza Slice \n🥙 Quesadilla \n🍗 3 Tenders \n🍝 3 Meatballs \n  \nQuestions? Call the Bowling Center at (662) 434-3426. \n 
URL:https://columbusafbliving.com/event/3-thursdays-2/2026-04-30/
LOCATION:Bowling Center\, Building 736\, Columbus\, MS\, 39705\, United States
CATEGORIES:Bowling Center,Columbus AFB,Family,Food,Fun
ATTACH;FMTTYPE=image/png:https://columbusafbliving.com/wp-content/uploads/2026/01/010826_3-dollar-thurs_FSW_Bowling_FB-Events-1-scaled.png
END:VEVENT
BEGIN:VEVENT
DTSTART;TZID=UTC:20260430T160000
DTEND;TZID=UTC:20260430T180000
DTSTAMP:20260423T051111
CREATED:20260112T193451Z
LAST-MODIFIED:20260112T193451Z
UID:10002029-1777564800-1777572000@columbusafbliving.com
SUMMARY:Rockin' The Block
DESCRIPTION:SAVE THE DATE! Join the Youth Center for a FREE Rockin’ The Block Base-Wide Community Event at Venture 360 on 30 April from 1600-1800! Enjoy live bands\, free food\, bouncy houses\, a game truck\, face painting\, cotton candy\, balloon animals\, touch-a-truck\, and more! Fun for the whole family! \nQuestions? Call the Youth Center at (662) 434-2504.
URL:https://columbusafbliving.com/event/rockin-the-block/
LOCATION:Youth Center\, 386 Imes St. Columbus AFB
CATEGORIES:Base Wide Events,Columbus AFB,Community Events,Family,Featured Event,Food,Fun,Hot Events,Youth Programs
ATTACH;FMTTYPE=image/jpeg:https://columbusafbliving.com/wp-content/uploads/2026/01/043026_rockintheblockparty_FSY_CYP.jpg
END:VEVENT
END:VCALENDAR