BEGIN:VCALENDAR
VERSION:2.0
PRODID:-//Columbus AFB - ECPv6.15.20//NONSGML v1.0//EN
CALSCALE:GREGORIAN
METHOD:PUBLISH
X-WR-CALNAME:Columbus AFB
X-ORIGINAL-URL:https://columbusafbliving.com
X-WR-CALDESC:Events for Columbus AFB
REFRESH-INTERVAL;VALUE=DURATION:PT1H
X-Robots-Tag:noindex
X-PUBLISHED-TTL:PT1H
BEGIN:VTIMEZONE
TZID:UTC
BEGIN:STANDARD
TZOFFSETFROM:+0000
TZOFFSETTO:+0000
TZNAME:UTC
DTSTART:20250101T000000
END:STANDARD
END:VTIMEZONE
BEGIN:VEVENT
DTSTART;VALUE=DATE:20260401
DTEND;VALUE=DATE:20260501
DTSTAMP:20260422T015224
CREATED:20260414T194843Z
LAST-MODIFIED:20260414T194843Z
UID:10002438-1775001600-1777593599@columbusafbliving.com
SUMMARY:Month of the Military Child
DESCRIPTION:
URL:https://columbusafbliving.com/event/month-of-the-military-child/
LOCATION:Columbus Air Force Base\, Harpe Blvd\, Columbus\, MS\, 39710\, United States
CATEGORIES:Base Wide Events,Columbus AFB,Community Events,Family,Featured Event,Hot Events,Youth Programs
ATTACH;FMTTYPE=image/jpeg:https://columbusafbliving.com/wp-content/uploads/2026/04/040126_momccalendargraphics-2026_Flyer-e1776196027478.jpg
END:VEVENT
BEGIN:VEVENT
DTSTART;VALUE=DATE:20260406
DTEND;VALUE=DATE:20260425
DTSTAMP:20260422T015224
CREATED:20260331T142551Z
LAST-MODIFIED:20260331T142639Z
UID:10002384-1775433600-1777075199@columbusafbliving.com
SUMMARY:April Fitness Challenge
DESCRIPTION:Think you have what it takes to become April’s Athlete of the Month? \nCompete from the 1st Monday to the last Friday of every month for points during the challenge for prizes\, the Athlete of the Month parking spot\, and bragging rights:\n2 POINTS: Complete a workout at the Fitness Center or with OST on Team Buildr.\n3 POINTS: Bring a friend to work out or attend a fitness event.\n4 POINTS: Get Top 3 on the Fitness Center Leaderboard\, place in a fitness event\, or volunteer at a fitness event. \nClick the links below to download TeamBuildr:\nGoogle Play\nApple App Store \nActive Duty Codes:\nCode 1: UZKC\nCode 2: B8GS\nPassword: JSPX9ZLB \nNon-Active Duty Codes:\nCode 1: DZRK\nCode 2: 4CBD\nPassword: ZI8TJFNL \nAll workouts must be verified by the Fitness Center staff. No points for workouts during unmanned hours.\nQuestions? Call the Fitness Center at (662) 434-2772.
URL:https://columbusafbliving.com/event/april-fitness-challenge/
LOCATION:MS
CATEGORIES:Base Wide Events,Columbus AFB,Fitness,Monthly
ATTACH;FMTTYPE=image/jpeg:https://columbusafbliving.com/wp-content/uploads/2026/03/010126_december-fitness-challenge_FSV_Fitness_FB-Events.jpg
END:VEVENT
BEGIN:VEVENT
DTSTART;TZID=UTC:20260422T110000
DTEND;TZID=UTC:20260422T130000
DTSTAMP:20260422T015224
CREATED:20260113T213313Z
LAST-MODIFIED:20260114T154207Z
UID:10002148-1776855600-1776862800@columbusafbliving.com
SUMMARY:Lunch Buffet
DESCRIPTION:Join the Event Center every week on Tuesdays-Thursdays from 1100-1300 for a Lunch Buffet! \n  \nTuesday Menu: Taco Tuesday – Beef\, Chicken\, Ranchero\, Beans\, Taco Shells\, and more! \nWednesday Menu: Rotating Specials –  Chicken Wings\, Pizza\, Pasta\, Fried Chicken\, and more! \nThursday Menu: Fish Fry & BBQ – Barbecued Meats\, Fried Fish\, and a variety of country-style sides! \nSalad Bar: 14 Item Salad Bar with 6 Assorted Dressings. \n  \n– Prices – \nTo-Go: \n$9 – Salad Bar \n$12 – Buffet & Salad \n  \nDine-In: \n$10 – Salad Bar \n$14 – Whole Buffet \n  \nDine-In is unlimited buffet. Tax and soft drink or tea included. \nQuestions? Call the Event Center at (662) 434-2489 for more information.
URL:https://columbusafbliving.com/event/lunch-buffet/2026-04-22/
LOCATION:Event Center\, 236 State Loop\, Columbus\, MS\, 39710\, United States
CATEGORIES:Base Wide Events,Columbus AFB,Community Events,Event Center,Family,Food
ATTACH;FMTTYPE=image/png:https://columbusafbliving.com/wp-content/uploads/2026/01/2026-Lunch_Buffet-Event_Center-FB_Event-1.png
END:VEVENT
BEGIN:VEVENT
DTSTART;TZID=UTC:20260422T150000
DTEND;TZID=UTC:20260422T150000
DTSTAMP:20260422T015224
CREATED:20260402T191251Z
LAST-MODIFIED:20260402T192036Z
UID:10002395-1776870000-1776870000@columbusafbliving.com
SUMMARY:Earth Day with CYP
DESCRIPTION:In honor of Earth Day\, CAFB Child and Youth Programs is starting a 1500-seed planting project in the summer garden. The official flower of the Month of the Military Child is the dandelion\, symbolizing the military youth’s ability to bloom where planted\, take root\, and thrive anywhere! \nCDC @ 1500 \nYouth Center @ 1600 \nFor more information\, contact the Youth Center at (662) 434-2504.
URL:https://columbusafbliving.com/event/earth-day/
LOCATION:MS
CATEGORIES:Columbus AFB,Community Events,Family,Fun,Youth Programs
ATTACH;FMTTYPE=image/jpeg:https://columbusafbliving.com/wp-content/uploads/2026/04/042226_earth-day_FSY_CYP_FB-Events.jpg
END:VEVENT
END:VCALENDAR